BEGIN:VCALENDAR
VERSION:2.0
PRODID:-//Prostate Cancer Support Windsor/Essex - ECPv6.15.15//NONSGML v1.0//EN
CALSCALE:GREGORIAN
METHOD:PUBLISH
X-ORIGINAL-URL:https://wpcsg.com
X-WR-CALDESC:Events for Prostate Cancer Support Windsor/Essex
REFRESH-INTERVAL;VALUE=DURATION:PT1H
X-Robots-Tag:noindex
X-PUBLISHED-TTL:PT1H
BEGIN:VTIMEZONE
TZID:America/Toronto
BEGIN:DAYLIGHT
TZOFFSETFROM:-0500
TZOFFSETTO:-0400
TZNAME:EDT
DTSTART:20250309T070000
END:DAYLIGHT
BEGIN:STANDARD
TZOFFSETFROM:-0400
TZOFFSETTO:-0500
TZNAME:EST
DTSTART:20251102T060000
END:STANDARD
BEGIN:DAYLIGHT
TZOFFSETFROM:-0500
TZOFFSETTO:-0400
TZNAME:EDT
DTSTART:20260308T070000
END:DAYLIGHT
BEGIN:STANDARD
TZOFFSETFROM:-0400
TZOFFSETTO:-0500
TZNAME:EST
DTSTART:20261101T060000
END:STANDARD
BEGIN:DAYLIGHT
TZOFFSETFROM:-0500
TZOFFSETTO:-0400
TZNAME:EDT
DTSTART:20270314T070000
END:DAYLIGHT
BEGIN:STANDARD
TZOFFSETFROM:-0400
TZOFFSETTO:-0500
TZNAME:EST
DTSTART:20271107T060000
END:STANDARD
END:VTIMEZONE
BEGIN:VEVENT
DTSTART;TZID=America/Toronto:20260531T070000
DTEND;TZID=America/Toronto:20260531T170000
DTSTAMP:20260422T034814
CREATED:20260203T221734Z
LAST-MODIFIED:20260203T221734Z
UID:3350-1780210800-1780246800@wpcsg.com
SUMMARY:Motorcycle Ride For Dad
DESCRIPTION:Established in 2005\, the Windsor Motorcycle Ride for Dad has raised over $1.1 million dollars for the fight against prostate cancer. The proceeds from our annual events are invested in ground-breaking prostate cancer research and life-saving public awareness campaigns of the disease and the importance of early detection. \nRegistration: 7-9:50 am Kick Off: 10 am Sharp / Pre registration : Saturday\, May 24\, 11 am-4 pm Thunder Road Harley-Davidson\nStarting location: Thunder Road Harley-Davidson\, 2100 Ambassador Drive\, Windsor\n$35 before Ride Day\, $40 on Ride Day or FREE with $100.00 collected in pledges.
URL:https://wpcsg.com/event/motorcycle-ride-for-dad/
LOCATION:Thunder Road Harley Davidson\, 2139 Huron Church Road\, Windsor\, ON\, Canada
CATEGORIES:Fundraising,News
END:VEVENT
END:VCALENDAR